BEGIN:VCALENDAR
VERSION:2.0
PRODID:-//ChamberMaster//Event Calendar 2.0//EN
METHOD:PUBLISH
X-PUBLISHED-TTL:P3D
REFRESH-INTERVAL:P3D
CALSCALE:GREGORIAN
BEGIN:VEVENT
DTSTART:20260605T120000Z
DTEND:20260605T140000Z
X-MICROSOFT-CDO-ALLDAYEVENT:FALSE
SUMMARY:2026 Veridea Development Panel & Walking Tour
DESCRIPTION:Curious about Apex's Veridea Development? Join us for a breakfast panel at The Halle Cultural Arts Center and hear from our panel of guest speakers: \n\n	Joe Graziose\, RXR\n	Emily Ziegler\, UNC Health\n	Joanna Helms\, Town of Apex\n	Gavin Williford\, Lennar\n\nSpace is limited\, so be sure to register soon. There will also be a guided walking tour through Downtown Apex's Art Walk once the panel concludes!
X-ALT-DESC;FMTTYPE=text/html:Curious about Apex&#39\;s Veridea Development? Join us for a breakfast panel at The Halle Cultural Arts Center and hear from our panel of guest speakers:&nbsp\;\n<ul>\n	<li>Joe Graziose\, RXR</li>\n	<li>Emily Ziegler\, UNC Health</li>\n	<li>Joanna Helms\, Town of Apex</li>\n	<li>Gavin Williford\, Lennar</li>\n</ul>\nSpace is limited\, so be sure to register soon. There will also be a guided walking tour through Downtown Apex&#39\;s Art Walk once the panel concludes!
LOCATION:Halle Cultural Arts Center 237 N Salem Street Apex\, NC
UID:e.9617.539
SEQUENCE:3
DTSTAMP:20260424T194324Z
URL:https://www.tricc.org/events/details/2026-veridea-development-panel-walking-tour-539
END:VEVENT

END:VCALENDAR
