BEGIN:VCALENDAR
VERSION:2.0
PRODID:-//ChamberMaster//Event Calendar 2.0//EN
METHOD:PUBLISH
X-PUBLISHED-TTL:P3D
REFRESH-INTERVAL:P3D
CALSCALE:GREGORIAN
BEGIN:VEVENT
DTSTART:20260521T203000Z
DTEND:20260521T220000Z
X-MICROSOFT-CDO-ALLDAYEVENT:FALSE
SUMMARY:2026 Spring Women's Networking Night
DESCRIPTION:Take in a lovely view -- drink in hand -- at this spring's TCC Women's Networking Night\, at One Glenwood! We'll hear from guest panelists Brandee Melcher\, M/I Homes\, and Anne Oakley\, DR Horton\, and follow it up with a time for Q&A. Don't miss our time together\, where we encourage each other\, share what we've learned\, and build our industry network. We can't wait to see you there!
X-ALT-DESC;FMTTYPE=text/html:Take in a lovely view -- drink in hand -- at this spring&#39\;s TCC Women&#39\;s Networking Night\, at One Glenwood! We&#39\;ll hear from guest panelists Brandee Melcher\, M/I Homes\, and Anne Oakley\, DR Horton\, and follow it up with a time for Q&amp\;A. Don&#39\;t miss our time together\, where we encourage each other\, share what we&#39\;ve learned\, and build our industry network. We can&#39\;t wait to see you there!
LOCATION:One Glenwood 1 Glenwood Ave\, Raleigh NC 27603
UID:e.9617.538
SEQUENCE:3
DTSTAMP:20260424T183619Z
URL:https://www.tricc.org/events/details/2026-spring-women-s-networking-night-538
END:VEVENT

END:VCALENDAR
